Workbook

Sheet Final
A1: Daily Market Segment | R1: 31 | S1: 41091 | T1: =R1*177 -> 5487 | U1: 41121
R2: Current Month
A5: Daily | C5: Definite Occ% | D5: Definite OTB | E5: Definite ADR | F5: Definite Revenue | G5: RevPar | H5: Today Pick-Up | J5: Mkt Seg. | L5: OTB | M5: Pick-Up | N5: MTD Pick up | O5: Average Pick Daily | P5: Last Night | Q5: 1st of the Month
A6: 40725 | C6: =D6/177 -> 0.75141243 | D6: ='Data Input - OTB'!B3 -> 133 | E6: =F6/D6 -> 105 | F6: ='Data Input - OTB'!C3 -> 13965 | G6: =F6/177 -> 78.898305 | H6: =' Data Input - Pick-Up Tracking'!C5-' Data Input - Pick-Up Tracking'!B5 -> 13 | J6: IN | K6: Individual | L6: 80 | M6: =L6-P6 -> 15 | N6: =L6-Q6 -> 50 | O6: =N6/R1 -> 1.6129032 | P6: 65 | Q6: 30
A7: 40726 | C7: =D7/177 -> 0.73446328 | D7: ='Data Input - OTB'!B4 -> 130 | E7: =F7/D7 -> 105 | F7: ='Data Input - OTB'!C4 -> 13650 | G7: =F7/177 -> 77.118644 | H7: =' Data Input - Pick-Up Tracking'!C6-' Data Input - Pick-Up Tracking'!B6 -> 5 | J7: CP | K7: Corporate | L7: 88 | M7: =L7-P7 -> 28 | N7: =L7-Q7 -> 58 | O7: =N7/R1 -> 1.8709677 | P7: 60 | Q7: 30
A8: 40727 | C8: =D8/177 -> 0.73446328 | D8: ='Data Input - OTB'!B5 -> 130 | E8: =F8/D8 -> 105 | F8: ='Data Input - OTB'!C5 -> 13650 | G8: =F8/177 -> 77.118644 | H8: =' Data Input - Pick-Up Tracking'!C7-' Data Input - Pick-Up Tracking'!B7 -> 10 | J8: EM | K8: Embassy | L8: 90 | M8: =L8-P8 -> 20 | N8: =L8-Q8 -> 60 | O8: =N8/R1 -> 1.9354839 | P8: 70 | Q8: 30
A9: 40728 | C9: =D9/177 -> 0.70621469 | D9: ='Data Input - OTB'!B6 -> 125 | E9: =F9/D9 -> 105 | F9: ='Data Input - OTB'!C6 -> 13125 | G9: =F9/177 -> 74.152542 | H9: =' Data Input - Pick-Up Tracking'!C8-' Data Input - Pick-Up Tracking'!B8 -> 10 | J9: GV | K9: Government | L9: 99 | M9: =L9-P9 -> 19 | N9: =L9-Q9 -> 69 | O9: =N9/R1 -> 2.2258065 | P9: 80 | Q9: 30
A10: 40729 | C10: =D10/177 -> 0.70621469 | D10: ='Data Input - OTB'!B7 -> 125 | E10: =F10/D10 -> 105 | F10: ='Data Input - OTB'!C7 -> 13125 | G10: =F10/177 -> 74.152542 | H10: =' Data Input - Pick-Up Tracking'!C9-' Data Input - Pick-Up Tracking'!B9 -> 15 | J10: GL | K10: Group Leisure | L10: 75 | M10: =L10-P10 -> 15 | N10: =L10-Q10 -> 45 | O10: =N10/R1 -> 1.4516129 | P10: 60 | Q10: 30
A11: 40730 | C11: =D11/177 -> 0.69491525 | D11: ='Data Input - OTB'!B8 -> 123 | E11: =F11/D11 -> 105 | F11: ='Data Input - OTB'!C8 -> 12915 | G11: =F11/177 -> 72.966102 | H11: =' Data Input - Pick-Up Tracking'!C10-' Data Input - Pick-Up Tracking'!B10 -> 18 | J11: GB | K11: Group Business | L11: 85 | M11: =L11-P11 -> 5 | N11: =L11-Q11 -> 55 | O11: =N11/R1 -> 1.7741935 | P11: 80 | Q11: 30
A12: 40731 | C12: =D12/177 -> 0.68926554 | D12: ='Data Input - OTB'!B9 -> 122 | E12: =F12/D12 -> 105 | F12: ='Data Input - OTB'!C9 -> 12810 | G12: =F12/177 -> 72.372881 | H12: =' Data Input - Pick-Up Tracking'!C11-' Data Input - Pick-Up Tracking'!B11 -> 22 | J12: GC | K12: Group Convention | L12: 60 | M12: =L12-P12 -> 10 | N12: =L12-Q12 -> 30 | O12: =N12/R1 -> 0.96774194 | P12: 50 | Q12: 30
A13: 40732 | C13: =D13/177 -> 0.6779661 | D13: ='Data Input - OTB'!B10 -> 120 | E13: =F13/D13 -> 105 | F13: ='Data Input - OTB'!C10 -> 12600 | G13: =F13/177 -> 71.186441 | H13: =' Data Input - Pick-Up Tracking'!C12-' Data Input - Pick-Up Tracking'!B12 -> 25 | J13: AI | K13: Airlines | L13: 75 | M13: =L13-P13 -> 18 | N13: =L13-Q13 -> 45 | O13: =N13/R1 -> 1.4516129 | P13: 57 | Q13: 30
A14: 40733 | C14: =D14/177 -> 0.64971751 | D14: ='Data Input - OTB'!B11 -> 115 | E14: =F14/D14 -> 105 | F14: ='Data Input - OTB'!C11 -> 12075 | G14: =F14/177 -> 68.220339 | H14: =' Data Input - Pick-Up Tracking'!C13-' Data Input - Pick-Up Tracking'!B13 -> 25 | J14: CM | K14: Complimentary | L14: 80 | M14: =L14-P14 -> 20 | N14: =L14-Q14 -> 50 | O14: =N14/R1 -> 1.6129032 | P14: 60 | Q14: 30
A15: 40734 | C15: =D15/177 -> 0.63841808 | D15: ='Data Input - OTB'!B12 -> 113 | E15: =F15/D15 -> 105 | F15: ='Data Input - OTB'!C12 -> 11865 | G15: =F15/177 -> 67.033898 | H15: =' Data Input - Pick-Up Tracking'!C14-' Data Input - Pick-Up Tracking'!B14 -> 28 | J15: OTH | K15: Other | L15: 75 | M15: =L15-P15 -> 5 | N15: =L15-Q15 -> 45 | O15: =N15/R1 -> 1.4516129 | P15: 70 | Q15: 30
A16: 40735 | C16: =D16/177 -> 0.62146893 | D16: ='Data Input - OTB'!B13 -> 110 | E16: =F16/D16 -> 105 | F16: ='Data Input - OTB'!C13 -> 11550 | G16: =F16/177 -> 65.254237 | H16: =' Data Input - Pick-Up Tracking'!C15-' Data Input - Pick-Up Tracking'!B15 -> 30 | K16: Closed on PMS | M16: =SUMIF(M6:M15,">0",M6:M15) -> 155 | N16: =SUMIF(N6:N15,">0",N6:N15) -> 507
A17: 40736 | C17: =D17/177 -> 0.62146893 | D17: ='Data Input - OTB'!B14 -> 110 | E17: =F17/D17 -> 105 | F17: ='Data Input - OTB'!C14 -> 11550 | G17: =F17/177 -> 65.254237 | H17: =' Data Input - Pick-Up Tracking'!C16-' Data Input - Pick-Up Tracking'!B16 -> 35 | K17: Total Release | M17: =SUMIF(M6:M15,"<0",M6:M15) -> 0 | N17: =SUMIF(N6:N15,"<0",N6:N15) -> 0
A18: 40737 | C18: =D18/177 -> 0.60451977 | D18: ='Data Input - OTB'!B15 -> 107 | E18: =F18/D18 -> 105 | F18: ='Data Input - OTB'!C15 -> 11235 | G18: =F18/177 -> 63.474576 | H18: =' Data Input - Pick-Up Tracking'!C17-' Data Input - Pick-Up Tracking'!B17 -> 37
A19: 40738 | C19: =D19/177 -> 0.59322034 | D19: ='Data Input - OTB'!B16 -> 105 | E19: =F19/D19 -> 105 | F19: ='Data Input - OTB'!C16 -> 11025 | G19: =F19/177 -> 62.288136 | H19: =' Data Input - Pick-Up Tracking'!C18-' Data Input - Pick-Up Tracking'!B18 -> 40
A20: 40739 | C20: =D20/177 -> 0.59322034 | D20: ='Data Input - OTB'!B17 -> 105 | E20: =F20/D20 -> 105 | F20: ='Data Input - OTB'!C17 -> 11025 | G20: =F20/177 -> 62.288136 | H20: =' Data Input - Pick-Up Tracking'!C19-' Data Input - Pick-Up Tracking'!B19 -> 45
A21: 40740 | C21: =D21/177 -> 0.5819209 | D21: ='Data Input - OTB'!B18 -> 103 | E21: =F21/D21 -> 105 | F21: ='Data Input - OTB'!C18 -> 10815 | G21: =F21/177 -> 61.101695 | H21: =' Data Input - Pick-Up Tracking'!C20-' Data Input - Pick-Up Tracking'!B20 -> 48
A22: 40741 | C22: =D22/177 -> 0.57627119 | D22: ='Data Input - OTB'!B19 -> 102 | E22: =F22/D22 -> 105 | F22: ='Data Input - OTB'!C19 -> 10710 | G22: =F22/177 -> 60.508475 | H22: =' Data Input - Pick-Up Tracking'!C21-' Data Input - Pick-Up Tracking'!B21 -> 47
A23: 40742 | C23: =D23/177 -> 0.57627119 | D23: ='Data Input - OTB'!B20 -> 102 | E23: =F23/D23 -> 105 | F23: ='Data Input - OTB'!C20 -> 10710 | G23: =F23/177 -> 60.508475 | H23: =' Data Input - Pick-Up Tracking'!C22-' Data Input - Pick-Up Tracking'!B22 -> 47
A24: 40743 | C24: =D24/177 -> 0.57627119 | D24: ='Data Input - OTB'!B21 -> 102 | E24: =F24/D24 -> 105 | F24: ='Data Input - OTB'!C21 -> 10710 | G24: =F24/177 -> 60.508475 | H24: =' Data Input - Pick-Up Tracking'!C23-' Data Input - Pick-Up Tracking'!B23 -> 52
A25: 40744 | C25: =D25/177 -> 0.57627119 | D25: ='Data Input - OTB'!B22 -> 102 | E25: =F25/D25 -> 105 | F25: ='Data Input - OTB'!C22 -> 10710 | G25: =F25/177 -> 60.508475 | H25: =' Data Input - Pick-Up Tracking'!C24-' Data Input - Pick-Up Tracking'!B24 -> 52
A26: 40745 | C26: =D26/177 -> 0.56497175 | D26: ='Data Input - OTB'!B23 -> 100 | E26: =F26/D26 -> 105 | F26: ='Data Input - OTB'!C23 -> 10500 | G26: =F26/177 -> 59.322034 | H26: =' Data Input - Pick-Up Tracking'!C25-' Data Input - Pick-Up Tracking'!B25 -> 50
A27: 40746 | C27: =D27/177 -> 0.56497175 | D27: ='Data Input - OTB'!B24 -> 100 | E27: =F27/D27 -> 105 | F27: ='Data Input - OTB'!C24 -> 10500 | G27: =F27/177 -> 59.322034 | H27: =' Data Input - Pick-Up Tracking'!C26-' Data Input - Pick-Up Tracking'!B26 -> 50 | L27: Overall Pick Up
A28: 40747 | C28: =D28/177 -> 0.56497175 | D28: ='Data Input - OTB'!B25 -> 100 | E28: =F28/D28 -> 105 | F28: ='Data Input - OTB'!C25 -> 10500 | G28: =F28/177 -> 59.322034 | H28: =' Data Input - Pick-Up Tracking'!C27-' Data Input - Pick-Up Tracking'!B27 -> 50 | J28: Overall Pick up | L28: =SUM(L6:L15) -> 807 | M28: =L28-P28 -> 155 | N28: =L28-Q28 -> 507 | O28: =SUM(O6:O15) -> 16.354839 | P28: =SUM(P6:P15) -> 652 | Q28: =SUM(Q6:Q15) -> 300
A29: 40748 | C29: =D29/177 -> 0.55932203 | D29: ='Data Input - OTB'!B26 -> 99 | E29: =F29/D29 -> 105 | F29: ='Data Input - OTB'!C26 -> 10395 | G29: =F29/177 -> 58.728814 | H29: =' Data Input - Pick-Up Tracking'!C28-' Data Input - Pick-Up Tracking'!B28 -> 54 | J29: OCC% | L29: =L28/T1 -> 0.1470749 | M29: =M28/T1 -> 0.028248588 | N29: =N28/T1 -> 0.092400219 | O29: =O28/T1 -> 0.0029806522 | P29: =P28/T1 -> 0.11882632 | Q29: =Q28/T1 -> 0.054674686
A30: 40749 | C30: =D30/177 -> 0.55367232 | D30: ='Data Input - OTB'!B27 -> 98 | E30: =F30/D30 -> 105 | F30: ='Data Input - OTB'!C27 -> 10290 | G30: =F30/177 -> 58.135593 | H30: =' Data Input - Pick-Up Tracking'!C29-' Data Input - Pick-Up Tracking'!B29 -> 53 | J30: Revenue | L30: =F37 -> 348600 | M30: =F37-P30 -> 108600 | N30: =F37-Q30 -> 148600 | O30: =N30/R1 -> 4793.5484 | P30: 240000 | Q30: 200000
A31: 40750 | C31: =D31/177 -> 0.5480226 | D31: ='Data Input - OTB'!B28 -> 97 | E31: =F31/D31 -> 105 | F31: ='Data Input - OTB'!C28 -> 10185 | G31: =F31/177 -> 57.542373 | H31: =' Data Input - Pick-Up Tracking'!C30-' Data Input - Pick-Up Tracking'!B30 -> 52 | J31: Average Rate | L31: =L30/L28 -> 431.97026 | M31: =M30/M28 -> 700.64516 | N31: =N30/N28 -> 293.09665 | O31: =O30/O28 -> 293.09665
A32: 40751 | C32: =D32/177 -> 0.53672316 | D32: ='Data Input - OTB'!B29 -> 95 | E32: =F32/D32 -> 105 | F32: ='Data Input - OTB'!C29 -> 9975 | G32: =F32/177 -> 56.355932 | H32: =' Data Input - Pick-Up Tracking'!C31-' Data Input - Pick-Up Tracking'!B31 -> 50 | J32: Future 30 ~ 60 ~ 90 | L32: Occ% | M32: OTB | N32: ADR | O32: +
A33: 40752 | C33: =D33/177 -> 0.50847458 | D33: ='Data Input - OTB'!B30 -> 90 | E33: =F33/D33 -> 105 | F33: ='Data Input - OTB'!C30 -> 9450 | G33: =F33/177 -> 53.389831 | H33: =' Data Input - Pick-Up Tracking'!C32-' Data Input - Pick-Up Tracking'!B32 -> 50 | J33: JUL | K33: Actual | L33: =M33/T1 -> 0.60506652 | M33: ='Data Input - OTB'!B220 -> 3320 | N33: =E37 -> 105 | O33: ='Data Input - OTB'!D220 -> 383460
A34: 40753 | C34: =D34/177 -> 0.50282486 | D34: ='Data Input - OTB'!B31 -> 89 | E34: =F34/D34 -> 105 | F34: ='Data Input - OTB'!C31 -> 9345 | G34: =F34/177 -> 52.79661 | H34: =' Data Input - Pick-Up Tracking'!C33-' Data Input - Pick-Up Tracking'!B33 -> 49 | J34: JUL | K34: Budget | L34: =M34/T1 -> 0.68343357 | M34: 3750 | N34: 109 | O34: =M34*N34 -> 408750
A35: 40754 | C35: =D35/177 -> 0.48022599 | D35: ='Data Input - OTB'!B32 -> 85 | E35: =F35/D35 -> 105 | F35: ='Data Input - OTB'!C32 -> 8925 | G35: =F35/177 -> 50.423729 | H35: =' Data Input - Pick-Up Tracking'!C34-' Data Input - Pick-Up Tracking'!B34 -> 45 | J35: AUG | K35: Actual | L35: =M35/T1 -> 0.43685074 | M35: ='Data Input - OTB'!B221 -> 2397 | N35: =O35/M35 -> 115.5 | O35: ='Data Input - OTB'!D221 -> 276853.5
A36: 40755 | C36: =D36/177 -> 0.46892655 | D36: ='Data Input - OTB'!B33 -> 83 | E36: =F36/D36 -> 105 | F36: ='Data Input - OTB'!C33 -> 8715 | G36: =F36/177 -> 49.237288 | H36: =' Data Input - Pick-Up Tracking'!C35-' Data Input - Pick-Up Tracking'!B35 -> 43 | J36: AUG | K36: Budget | L36: =M36/T1 -> 0.75633315 | M36: 4150 | N36: 112 | O36: =M36*N36 -> 464800
A37: Total | C37: =D37/T1 -> 0.60506652 | D37: =SUM(D6:D36) -> 3320 | E37: =F37/D37 -> 105 | F37: =SUM(F6:F36) -> 348600 | G37: =F37/T1 -> 63.531985 | H37: =SUMIF(H18:H36,">0",H18:H36) -> 914 | J37: SEP | K37: Actual | L37: =M37/T1 -> 0.36723164 | M37: ='Data Input - OTB'!B222 -> 2015 | N37: =O37/M37 -> 115.5 | O37: ='Data Input - OTB'!D222 -> 232732.5
J38: SEP | K38: Budget | L38: =M38/T1 -> 0.9385821 | M38: 5150 | N38: 105.5 | O38: =M38*N38 -> 543325
A39: Total Month Pick Up Needed | J39: OCT | K39: Actual | L39: ='Data Input - OTB'!B223/T1 -> 0.33333333 | M39: ='Data Input - OTB'!B223 -> 1829 | N39: =O39/M39 -> 115.5 | O39: ='Data Input - OTB'!D223 -> 211249.5
A40: Days left | C40: =(U1-S1) -> 30 | D40: Daily Needed | J40: OCT | K40: Budget | L40: =M40/T1 -> 1.1663933 | M40: 6400 | N40: 108.324 | O40: =M40*N40 -> 693273.6
A41: RN needed | C41: =M34-M33 -> 430 | D41: =C41/C40 -> 14.333333 | J41: NOV | K41: Actual | L41: =M41/T1 -> 0.29396756 | M41: ='Data Input - OTB'!B224 -> 1613 | N41: =O41/M41 -> 115.5 | O41: ='Data Input - OTB'!D224 -> 186301.5
A42: ADR | C42: =C43/C41 -> 58.813953 | D42: =D43/D41 -> 58.813953 | J42: NOV | K42: Budget | L42: =M42/T1 -> 0.91124476 | M42: 5000 | N42: 116.82 | O42: =M42*N42 -> 584100
A43: Revenue | C43: =O34-O33 -> 25290 | D43: =C43/C40 -> 843 | J43: DEC | K43: Actual | L43: =M43/T1 -> 0.18261345 | M43: ='Data Input - OTB'!B225 -> 1002 | N43: =O43/M43 -> 115.5 | O43: ='Data Input - OTB'!D225 -> 115731
A44: Occ % | C44: =C41/T1 -> 0.078367049 | D44: =D41/T1 -> 0.002612235 | J44: DEC | K44: Budget | L44: =M44/T1 -> 0.94222708 | M44: 5170 | N44: 109 | O44: =M44*N44 -> 563530
A45: RevPAR | C45: =C43/T1 -> 4.609076 | D45: =D43*C40/T1 -> 4.609076 | J45: JAN | K45: Actual | L45: =M45/T1 -> 0 | M45: ='Data Input - OTB'!B226 -> 0 | N45: =O45/M45 -> #DIV/0! | O45: ='Data Input - OTB'!D226 -> 0
J46: JAN | K46: Budget | L46: =M46/T1 -> 1.1937306 | M46: 6550 | N46: 111 | O46: =M46*N46 -> 727050
A48: Weekly Pick-Up Vs. Forecast
A50: Week | C50: Week 1 (1-7 July) | F50: Week 2 (8-14 July) | M50: Week 3 (15-21 July) | P50: Week 4 (22-31 July)
C51: OTB | D51: Forecast | E51: Needed | F51: OTB | H51: Forecast | J51: Needed | M51: OTB | N51: Forecast | O51: Needed | P51: OTB | Q51: Forecast | R51: Needed
A52: RN needed | C52: =SUM(D6:D12) -> 888 | D52: 937.5 | E52: =D52-C52 -> 49.5 | F52: =SUM(D13:D19) -> 780 | H52: 937.5 | J52: =H52-F52 -> 157.5 | M52: =SUM(D20:D26) -> 716 | N52: 937.5 | O52: =N52-M52 -> 221.5 | P52: =SUM(D27:D33) -> 679 | Q52: 937.5 | R52: =Q52-P52 -> 258.5
A53: ADR | C53: =C54/C52 -> 105 | D53: =D54/D52 -> 108.99947 | E53: =E54/E52 -> 180.74747 | F53: =F54/F52 -> 105 | H53: =H54/H52 -> 108.99947 | J53: =J54/J52 -> 128.80635 | M53: =M54/M52 -> 105 | N53: =N54/N52 -> 109 | O53: =O54/O52 -> 121.93002 | P53: =P54/P52 -> 105 | Q53: =Q54/Q52 -> 109 | R53: =R54/R52 -> 119.50677
A54: Revenue | C54: =SUM(F6:F12) -> 93240 | D54: 102187 | E54: =D54-C54 -> 8947 | F54: =SUM(F13:F19) -> 81900 | H54: 102187 | J54: =H54-F54 -> 20287 | M54: =SUM(F20:F26) -> 75180 | N54: 102187.5 | O54: =N54-M54 -> 27007.5 | P54: =SUM(F27:F33) -> 71295 | Q54: 102187.5 | R54: =Q54-P54 -> 30892.5
A55: Occ % | C55: =C52/(T1/4) -> 0.64734828 | D55: =D52/(T1/4) -> 0.68343357 | E55: =E52/(T1/4) -> 0.036085293 | F55: =F52/(T1/4) -> 0.56861673 | H55: =H52/(T1/4) -> 0.68343357 | J55: =J52/(T1/4) -> 0.11481684 | M55: =M52/(T1/4) -> 0.521961 | N55: =N52/(T1/4) -> 0.68343357 | O55: =O52/(T1/4) -> 0.16147257 | P55: =P52/(T1/4) -> 0.49498815 | Q55: =Q52/(T1/4) -> 0.68343357 | R55: =R52/(T1/4) -> 0.18844542
A63: .

Sheet Data Input - OTB
A1: OTB DEFINITE + TENTATIVE
A2: DATE | B2: NO. ROOMS O.T.B | C2: NET_ROOM_REVENUE | D2: 0.1
A3: 40725 | B3: 133 | C3: 13965 | D3: =C3*E3+C3 -> 15361.5 | E3: 0.1
A4: 40726 | B4: 130 | C4: 13650 | D4: =C4*E4+C4 -> 15015 | E4: 0.1
A5: 40727 | B5: 130 | C5: 13650 | D5: =C5*E5+C5 -> 15015 | E5: 0.1
A6: 40728 | B6: 125 | C6: 13125 | D6: =C6*E6+C6 -> 14437.5 | E6: 0.1
A7: 40729 | B7: 125 | C7: 13125 | D7: =C7*E7+C7 -> 14437.5 | E7: 0.1
A8: 40730 | B8: 123 | C8: 12915 | D8: =C8*E8+C8 -> 14206.5 | E8: 0.1
A9: 40731 | B9: 122 | C9: 12810 | D9: =C9*E9+C9 -> 14091 | E9: 0.1
A10: 40732 | B10: 120 | C10: 12600 | D10: =C10*E10+C10 -> 13860 | E10: 0.1
A11: 40733 | B11: 115 | C11: 12075 | D11: =C11*E11+C11 -> 13282.5 | E11: 0.1
A12: 40734 | B12: 113 | C12: 11865 | D12: =C12*E12+C12 -> 13051.5 | E12: 0.1
A13: 40735 | B13: 110 | C13: 11550 | D13: =C13*E13+C13 -> 12705 | E13: 0.1
A14: 40736 | B14: 110 | C14: 11550 | D14: =C14*E14+C14 -> 12705 | E14: 0.1
... A176: 40898 | B176: 45 | C176: 4725 | D176: =C176*E176+C176 -> 5197.5 | E176: 0.1
A177: 40899 | D177: =C177*E177+C177 -> 0 | E177: 0.1
A178: 40900 | D178: =C178*E178+C178 -> 0 | E178: 0.1
A179: 40901 | D179: =C179*E179+C179 -> 0 | E179: 0.1
A180: 40902 | D180: =C180*E180+C180 -> 0 | E180: 0.1
A181: 40903 | D181: =C181*E181+C181 -> 0 | E181: 0.1
A182: 40904 | D182: =C182*E182+C182 -> 0 | E182: 0.1
A183: 40905 | D183: =C183*E183+C183 -> 0 | E183: 0.1
A184: 40906 | D184: =C184*E184+C184 -> 0 | E184: 0.1
A185: 40907 | D185: =C185*E185+C185 -> 0 | E185: 0.1
A186: 40908 | D186: =C186*E186+C186 -> 0 | E186: 0.1
A187: 40909 | D187: =C187*E187+C187 -> 0 | E187: 0.1
A188: 40910 | D188: =C188*E188+C188 -> 0 | E188: 0.1
... A216: 40938 | D216: =C216*E216+C216 -> 0 | E216: 0.1
B219: Room Night | C219: Room Revenue
A220: July | B220: =SUM(B3:B33) -> 3320 | C220: =SUM(C3:C33) -> 348600 | D220: =C220*E220+C220 -> 383460 | E220: 0.1
A221: August | B221: =SUM(B34:B64) -> 2397 | C221: =SUM(C34:C64) -> 251685 | D221: =C221*E221+C221 -> 276853.5 | E221: 0.1
A222: September | B222: =SUM(B65:B94) -> 2015 | C222: =SUM(C65:C94) -> 211575 | D222: =C222*E222+C222 -> 232732.5 | E222: 0.1
A223: October | B223: =SUM(B95:B125) -> 1829 | C223: =SUM(C95:C125) -> 192045 | D223: =C223*E223+C223 -> 211249.5 | E223: 0.1
A224: November | B224: =SUM(B126:B155) -> 1613 | C224: =SUM(C126:C155) -> 169365 | D224: =C224*E224+C224 -> 186301.5 | E224: 0.1
A225: December | B225: =SUM(B156:B186) -> 1002 | C225: =SUM(C156:C186) -> 105210 | D225: =C225*E225+C225 -> 115731 | E225: 0.1
A226: January | B226: =SUM(B187:B216) -> 0 | C226: =SUM(C187:C216) -> 0 | D226: =C226*E226+C226 -> 0 | E226: 0.1

Sheet  Data Input - Pick-Up Tracking
A1: Daily Pick-Up Tracking
J2: Definite
B4: Start Off | C4: 40725 | D4: 40726 | E4: 40727 | F4: 40728 | G4: 40729 | H4: 40730 | I4: 40731 | J4: 40732 | K4: 40733 | L4: 40734 | M4: 40735 | N4: 40736 | O4: 40737 | P4: 40738 | Q4: 40739 | R4: 40740 | S4: 40741 | T4: 40742 | U4: 40743 | V4: 40744 | W4: 40745 | X4: 40746 | Y4: 40747 | Z4: 40748 | AA4: 40749 | AB4: 40750 | AC4: 40751 | AD4: 40752 | AE4: 40753 | AF4: 40754 | AG4: 40755
A5: 40725 | B5: 120 | C5: 133
A6: 40726 | B6: 125 | C6: 130
A7: 40727 | B7: 120 | C7: 130
A8: 40728 | B8: 115 | C8: 125
A9: 40729 | B9: 110 | C9: 125
A10: 40730 | B10: 105 | C10: 123
A11: 40731 | B11: 100 | C11: 122
A12: 40732 | B12: 95 | C12: 120
A13: 40733 | B13: 90 | C13: 115
A14: 40734 | B14: 85 | C14: 113
A15: 40735 | B15: 80 | C15: 110
A16: 40736 | B16: 75 | C16: 110
... A35: 40755 | B35: 40 | C35: 83
B36: =SUM(B5:B35) -> 2170 | C36: =SUMIF(C5:C35,">0",C5:C35) -> 3320 | D36: =SUM(D5:D35) -> 0 | E36: =SUM(E5:E35) -> 0 | F36: =SUM(F5:F35) -> 0 | G36: =SUM(G5:G35) -> 0 | H36: =SUM(H5:H35) -> 0 | I36: =SUM(I5:I35) -> 0 | J36: =SUM(J5:J35) -> 0 | K36: =SUM(K5:K35) -> 0 | ... AF36: =SUM(AF5:AF35) -> 0

Sheet DOW Pick Up Chart
D4: Day
B5: SAT | C5: SUN | D5: MON | E5: TUE | F5: WEN | G5: THU | H5: FRI
A6: Week 1 | B6: =Final!H7 -> 5 | C6: =Final!H8 -> 10 | D6: =Final!H9 -> 10 | E6: =Final!H10 -> 15 | F6: =Final!H11 -> 18 | G6: =Final!H12 -> 22 | H6: =Final!H6 -> 13 | I6: =SUM(B6:H6) -> 93
A7: Week 2 | B7: =Final!H14 -> 25 | C7: =Final!H15 -> 28 | D7: =Final!H16 -> 30 | E7: =Final!H17 -> 35 | F7: =Final!H18 -> 37 | G7: =Final!H19 -> 40 | H7: =Final!H13 -> 25 | I7: =SUM(B7:H7) -> 220
A8: Week 3 | B8: =Final!H21 -> 48 | C8: =Final!H22 -> 47 | D8: =Final!H23 -> 47 | E8: =Final!H24 -> 52 | F8: =Final!H25 -> 52 | G8: =Final!H26 -> 50 | H8: =Final!H20 -> 45 | I8: =SUM(B8:H8) -> 341
A9: Week 4 | B9: =Final!H28 -> 50 | C9: =Final!H29 -> 54 | D9: =Final!H30 -> 53 | E9: =Final!H31 -> 52 | F9: =Final!H32 -> 50 | G9: =Final!H33 -> 50 | H9: =Final!H27 -> 50 | I9: =SUM(B9:H9) -> 359
B10: =SUM(B6:B9) -> 128 | C10: =SUM(C6:C9) -> 139 | D10: =SUM(D6:D9) -> 140 | E10: =SUM(E6:E9) -> 154 | F10: =SUM(F6:F9) -> 157 | G10: =SUM(G6:G9) -> 162 | H10: =SUM(H6:H9) -> 133 | I10: =SUM(B10:H10) -> 1013
B11: =B10/I10 -> 0.12635735 | C11: =C10/I10 -> 0.13721619 | D11: =D10/I10 -> 0.13820336 | E11: =E10/I10 -> 0.15202369 | F11: =F10/I10 -> 0.15498519 | G11: =G10/I10 -> 0.15992103 | H11: =H10/I10 -> 0.13129319
A24: Comments:
